BEGIN:VCALENDAR
VERSION:2.0
PRODID:-//ChamberMaster//Event Calendar 2.0//EN
METHOD:PUBLISH
X-PUBLISHED-TTL:P3D
REFRESH-INTERVAL:P3D
CALSCALE:GREGORIAN
BEGIN:VEVENT
DTSTART:20260423T170000Z
DTEND:20260423T180000Z
X-MICROSOFT-CDO-ALLDAYEVENT:FALSE
SUMMARY:Coffee with the Mayor
DESCRIPTION:Coffee with the Mayor
X-ALT-DESC;FMTTYPE=text/html:<h1 style="margin: 0px\; padding: 0px 0px 0.4em\; box-sizing: border-box\; font-family: Heebo\, Poppins\, sans-serif\; font-size: 1.7rem\; line-height: 1.2em\; color: rgb(74\, 74\, 74)\; background-color: rgb(255\, 255\, 255)\; text-align: center\;"><span style="color:#000080\;"><strong>Coffee with the Mayor</strong></span></h1>\n
LOCATION:206 James Collins Blvd\, Duncanville\, TX 75116
UID:e.265.12656
SEQUENCE:3
DTSTAMP:20260423T081243Z
URL:http://duncanvillechamber.chambermaster.com/events/details/coffee-with-the-mayor-12656
END:VEVENT

END:VCALENDAR
